BEGIN:VCALENDAR
VERSION:2.0
CALSCALE:GREGORIAN
PRODID:adamgibbons/ics
METHOD:PUBLISH
X-PUBLISHED-TTL:PT1H
BEGIN:VEVENT
UID:16@events.versi-tech.com
SUMMARY:Hoppers
DTSTAMP:20260420T123010Z
DTSTART:20260425T003000Z
DTEND:20260425T020000Z
DESCRIPTION:Lets get together and watch Hoppers!!\n\nScientists have discov
	ered how to 'hop' human consciousness into lifelike\nrobotic animals\, all
	owing people to communicate with animals as animals. Animal\nlover Mabel s
	eizes an opportunity to use the technology\, uncovering mysteries\nwithin 
	the animal world beyond anything she could have imagined.
URL:https://events.versi-tech.com/event/hoppers
LOCATION:Gabbie's Bar - Moonshine Brewery\, Mist\, Ward 8\, Plot 35
STATUS:CONFIRMED
CATEGORIES:Final Fantasy 14,Movie Night
X-ALT-DESC;FMTTYPE=text/html:<p>Lets get together and watch Hoppers!!</p><p
	>Scientists have discovered how to 'hop' human consciousness into lifelike
	 robotic animals, allowing people to communicate with animals as animals. 
	Animal lover Mabel seizes an opportunity to use the technology, uncovering
	 mysteries within the animal world beyond anything she could have imagined
	.</p>
BEGIN:VALARM
ACTION:DISPLAY
DESCRIPTION:Hoppers
TRIGGER:-PT1H
END:VALARM
END:VEVENT
END:VCALENDAR
